BEGIN:VCALENDAR
VERSION:2.0
PRODID:-//Anya Tsai - ECPv6.15.17.1//NONSGML v1.0//EN
CALSCALE:GREGORIAN
METHOD:PUBLISH
X-WR-CALNAME:Anya Tsai
X-ORIGINAL-URL:https://anyatsai.com
X-WR-CALDESC:Évènements pour Anya Tsai
REFRESH-INTERVAL;VALUE=DURATION:PT1H
X-Robots-Tag:noindex
X-PUBLISHED-TTL:PT1H
BEGIN:VTIMEZONE
TZID:Europe/Helsinki
BEGIN:DAYLIGHT
TZOFFSETFROM:+0200
TZOFFSETTO:+0300
TZNAME:EEST
DTSTART:20210328T010000
END:DAYLIGHT
BEGIN:STANDARD
TZOFFSETFROM:+0300
TZOFFSETTO:+0200
TZNAME:EET
DTSTART:20211031T010000
END:STANDARD
BEGIN:DAYLIGHT
TZOFFSETFROM:+0200
TZOFFSETTO:+0300
TZNAME:EEST
DTSTART:20220327T010000
END:DAYLIGHT
BEGIN:STANDARD
TZOFFSETFROM:+0300
TZOFFSETTO:+0200
TZNAME:EET
DTSTART:20221030T010000
END:STANDARD
BEGIN:DAYLIGHT
TZOFFSETFROM:+0200
TZOFFSETTO:+0300
TZNAME:EEST
DTSTART:20230326T010000
END:DAYLIGHT
BEGIN:STANDARD
TZOFFSETFROM:+0300
TZOFFSETTO:+0200
TZNAME:EET
DTSTART:20231029T010000
END:STANDARD
END:VTIMEZONE
BEGIN:VEVENT
DTSTART;TZID=Europe/Helsinki:20220108T143000
DTEND;TZID=Europe/Helsinki:20220108T163000
DTSTAMP:20260424T135718
CREATED:20211115T164110Z
LAST-MODIFIED:20211226T161210Z
UID:8786-1641652200-1641659400@anyatsai.com
SUMMARY:Cercle de parole mixte Visio
DESCRIPTION:Groupe de parole mixte en visioconférence sur Zoom – Samedi 8 janvier 2021 de 14h30 à 16h30\nDurée : 2 heures\n\nLe cercle de parole est ouvert aux femmes et aux hommes résilient.e.s de violences sexuelles\, dans un cadre de confidentialité\, bienveillance\, respect\, écoute et non jugement. Les nouveaux participant.e.s sont les bienvenu.e.s !\nNombre de places limité. Pour participer et réserver votre place\, cliquez sur le bouton ci-dessous (vérifiez avant de régler que vous avez sélectionné en quantité 1 séance) et me préciser la date du cercle choisi.\n \n\n\n\nParticipation au groupe de parole\n\n\nCercle de parole en visio €30\,00 EUR\n\n\n\n\n\n \n\nBonus : La participation au cercle de parole vous donne également accès à ma communauté privé sur facebook pour continuer les échanges après le cercle 🙂 \nSi vous préférez régler par virement bancaire\, merci de me contacter par mail pour vous donner mon RIB.Le lien pour accéder au groupe en visio sur Zoom vous sera envoyé après paiement. \n\nPour les personnes en difficulté financière (RSA\, situation de handicap\, faibles revenus) : tarif spécial de 20 €. Me contacter pour en savoir plus et avoir le lien de paiement.\nPour toute question\, écrivez-moi à : anya@anyatsai.comReport : Si vous avez réglé votre place mais que vous ne pouvez finalement pas participer\, merci de prévenir au minimum 48h à l’avance pour pouvoir avoir un report sur un prochain cercle (dans la limite des places disponibles).
URL:https://anyatsai.com/evenement/cercle-parole-visio-8janv/
CATEGORIES:Groupes en Visio
ATTACH;FMTTYPE=image/jpeg:https://anyatsai.com/wp-content/uploads/2020/09/ordi-e1600076393906.jpg
END:VEVENT
END:VCALENDAR