BEGIN:VCALENDAR
VERSION:2.0
PRODID:-//Anya Tsai - ECPv6.15.17.1//NONSGML v1.0//EN
CALSCALE:GREGORIAN
METHOD:PUBLISH
X-ORIGINAL-URL:https://anyatsai.com
X-WR-CALDESC:Évènements pour Anya Tsai
REFRESH-INTERVAL;VALUE=DURATION:PT1H
X-Robots-Tag:noindex
X-PUBLISHED-TTL:PT1H
BEGIN:VTIMEZONE
TZID:Europe/Helsinki
BEGIN:DAYLIGHT
TZOFFSETFROM:+0200
TZOFFSETTO:+0300
TZNAME:EEST
DTSTART:20220327T010000
END:DAYLIGHT
BEGIN:STANDARD
TZOFFSETFROM:+0300
TZOFFSETTO:+0200
TZNAME:EET
DTSTART:20221030T010000
END:STANDARD
BEGIN:DAYLIGHT
TZOFFSETFROM:+0200
TZOFFSETTO:+0300
TZNAME:EEST
DTSTART:20230326T010000
END:DAYLIGHT
BEGIN:STANDARD
TZOFFSETFROM:+0300
TZOFFSETTO:+0200
TZNAME:EET
DTSTART:20231029T010000
END:STANDARD
BEGIN:DAYLIGHT
TZOFFSETFROM:+0200
TZOFFSETTO:+0300
TZNAME:EEST
DTSTART:20240331T010000
END:DAYLIGHT
BEGIN:STANDARD
TZOFFSETFROM:+0300
TZOFFSETTO:+0200
TZNAME:EET
DTSTART:20241027T010000
END:STANDARD
END:VTIMEZONE
BEGIN:VEVENT
DTSTART;TZID=Europe/Helsinki:20230114T100000
DTEND;TZID=Europe/Helsinki:20230114T120000
DTSTAMP:20260425T133548
CREATED:20220110T110035Z
LAST-MODIFIED:20221227T121817Z
UID:8854-1673690400-1673697600@anyatsai.com
SUMMARY:Cercle de Pardon® Visio
DESCRIPTION:Cercle de Pardon® en Visio sur Zoom – Samedi 14 janvier de 10h à 12h \nToute la puissance du Cercle de Pardon® en visio ! \n\nJe suis heureuse de vous annoncer ma certification en animation de Cercles de Pardon® \nLe Cercle de Pardon est un rituel profondément libérateur pour guérir son cœur et retrouver la paix intérieure  \nC’est une expérience unique à vivre.\n\n\n\nNous avons tous et toutes des blessures à soigner\, à cicatriser\, à guérir. Le cercle de pardon est un magnifique outil pour appliquer ce baume de guérison sur ses blessures. Il est grand temps de se libérer enfin de ces poisons que sont la colère\, le ressentiment\, la culpabilité\, le rancune\, la haine afin de retrouver un cœur ouvert et aimant\, soutenu par un mental éclairé et discernant \n\n\n\nC’est cela toute la puissance et profondeur de cette expérience que de vivre un cercle de pardon. Pour en avoir vécu plusieurs depuis 2020\, cela ne se raconte pas\, cela se vit de l’intérieur car chaque expérience est unique.\n\n\nC’est un merveilleux voyage à faire et je ne peux que vous encourager à l’expérimenter pour constater les résultats dans votre coeur et dans votre vie \n\n\n\nImportant : On ne pardonne pas l’autre ni pour l’autre\, on le fait pour soi. On s’offre le magnifique cadeau de la sérénité et de la paix intérieure \n\nTarif : 20€\n\nPour participer et réserver votre place :\n \n► Pour régler via carte bancaire\, cliquez ici \n\n► Pour régler via Paypal\, cliquez sur le bouton ci-dessous :\n \n\n\n\nCercle de Pardon\n\n\nCercle de Pardon €20\,00 EUR\n\n\n\n \nLe lien Zoom vous sera envoyé après paiement. \nPour toute question : anya@anyatsai.com \n  \nTémoignages de participants\nTellement reconnaissante de découvrir pour la première fois le cercle du pardon. Comme de faire le choix de l’expérimenter avec Anya. Un outil de libération et de guérison puissant qui m’a permis instantanément de changer d’état de Conscience\, et d’évoluer sur une situation perçue comme douloureuse\, au prime abord. Après l’atelier\, le travail a continué à infuser en moi pendant plusieurs jours… afin de transmuter\, d’harmoniser et de pacifier progressivement\, les liens et les situations que je traverse. Gratitude à Anya pour sa guidance dans la douceur\, la compréhension\, et l’Amour. Elle a mené à merveille sa mission ! Je renouvellerai\, certainement\, l’expérience avec elle\, et la recommande de tout Cœur 💖 (Ouzna) \n\nLe cercle du Pardon fut un moment de grâce\, un cadeau que je me suis fais dans mon chemin de résilience. Les vertus du pardon sont infinies et ce fut une merveilleuse expérience de douceur et d’amour. Merci Anya de nous permettre de grandir avec toute la bienveillance qui te caractérise. A partager sans modération pour toutes celles et ceux qui veulent vivre dans la paix. (Marie-Laure)
URL:https://anyatsai.com/evenement/cercle-pardon-janvier/
CATEGORIES:Groupes en Visio
ATTACH;FMTTYPE=image/jpeg:https://anyatsai.com/wp-content/uploads/2021/08/ben-white-ReEqHw2GyeI-unsplash.jpg
END:VEVENT
END:VCALENDAR