BEGIN:VCALENDAR
VERSION:2.0
PRODID:-//Anya Tsai - ECPv6.15.17.1//NONSGML v1.0//EN
CALSCALE:GREGORIAN
METHOD:PUBLISH
X-WR-CALNAME:Anya Tsai
X-ORIGINAL-URL:https://anyatsai.com
X-WR-CALDESC:Évènements pour Anya Tsai
REFRESH-INTERVAL;VALUE=DURATION:PT1H
X-Robots-Tag:noindex
X-PUBLISHED-TTL:PT1H
BEGIN:VTIMEZONE
TZID:Europe/Helsinki
BEGIN:DAYLIGHT
TZOFFSETFROM:+0200
TZOFFSETTO:+0300
TZNAME:EEST
DTSTART:20190331T010000
END:DAYLIGHT
BEGIN:STANDARD
TZOFFSETFROM:+0300
TZOFFSETTO:+0200
TZNAME:EET
DTSTART:20191027T010000
END:STANDARD
BEGIN:DAYLIGHT
TZOFFSETFROM:+0200
TZOFFSETTO:+0300
TZNAME:EEST
DTSTART:20200329T010000
END:DAYLIGHT
BEGIN:STANDARD
TZOFFSETFROM:+0300
TZOFFSETTO:+0200
TZNAME:EET
DTSTART:20201025T010000
END:STANDARD
BEGIN:DAYLIGHT
TZOFFSETFROM:+0200
TZOFFSETTO:+0300
TZNAME:EEST
DTSTART:20210328T010000
END:DAYLIGHT
BEGIN:STANDARD
TZOFFSETFROM:+0300
TZOFFSETTO:+0200
TZNAME:EET
DTSTART:20211031T010000
END:STANDARD
END:VTIMEZONE
BEGIN:VEVENT
DTSTART;TZID=Europe/Helsinki:20201212T143000
DTEND;TZID=Europe/Helsinki:20201212T163000
DTSTAMP:20260425T062833
CREATED:20201202T233426Z
LAST-MODIFIED:20201202T233426Z
UID:7603-1607783400-1607790600@anyatsai.com
SUMMARY:Groupe de parole Visio
DESCRIPTION:Groupe de parole en visioconférence sur Zoom – Samedi 12 décembre 2020 à 14h30 (durée : 2h)\n \n\n \n\n\n\nParticipation au groupe de parole\n\n\nGroupe de parole en visio €20\,00 EUR\n\n\n\n\n\n \nLe lien pour accéder au groupe en visio sur Zoom vous sera envoyé après paiement. \nPour toute question\, écrivez-moi à : anya@anyatsai.com \n 
URL:https://anyatsai.com/evenement/groupe-parole-visio-12dec/
CATEGORIES:Groupes en Visio
ATTACH;FMTTYPE=image/jpeg:https://anyatsai.com/wp-content/uploads/2020/09/ordi-e1600076393906.jpg
END:VEVENT
END:VCALENDAR