BEGIN:VCALENDAR
VERSION:2.0
PRODID:-//Anya Tsai - ECPv6.15.17.1//NONSGML v1.0//EN
CALSCALE:GREGORIAN
METHOD:PUBLISH
X-ORIGINAL-URL:https://anyatsai.com
X-WR-CALDESC:Évènements pour Anya Tsai
REFRESH-INTERVAL;VALUE=DURATION:PT1H
X-Robots-Tag:noindex
X-PUBLISHED-TTL:PT1H
BEGIN:VTIMEZONE
TZID:Europe/Helsinki
BEGIN:DAYLIGHT
TZOFFSETFROM:+0200
TZOFFSETTO:+0300
TZNAME:EEST
DTSTART:20200329T010000
END:DAYLIGHT
BEGIN:STANDARD
TZOFFSETFROM:+0300
TZOFFSETTO:+0200
TZNAME:EET
DTSTART:20201025T010000
END:STANDARD
BEGIN:DAYLIGHT
TZOFFSETFROM:+0200
TZOFFSETTO:+0300
TZNAME:EEST
DTSTART:20210328T010000
END:DAYLIGHT
BEGIN:STANDARD
TZOFFSETFROM:+0300
TZOFFSETTO:+0200
TZNAME:EET
DTSTART:20211031T010000
END:STANDARD
BEGIN:DAYLIGHT
TZOFFSETFROM:+0200
TZOFFSETTO:+0300
TZNAME:EEST
DTSTART:20220327T010000
END:DAYLIGHT
BEGIN:STANDARD
TZOFFSETFROM:+0300
TZOFFSETTO:+0200
TZNAME:EET
DTSTART:20221030T010000
END:STANDARD
END:VTIMEZONE
BEGIN:VEVENT
DTSTART;TZID=Europe/Helsinki:20210904T140000
DTEND;TZID=Europe/Helsinki:20210904T160000
DTSTAMP:20260424T182411
CREATED:20210604T220945Z
LAST-MODIFIED:20210902T211107Z
UID:8141-1630764000-1630771200@anyatsai.com
SUMMARY:Cercle de parole mixte en Visio
DESCRIPTION:Groupe de parole mixte en visioconférence sur Zoom – Samedi 4 septembre 2021 de 14h00 à 16h00\nDurée : 2 heures\n\nLe cercle de parole est ouvert aux femmes et aux hommes résilient.e.s de violences sexuelles\, dans un cadre de confidentialité\, bienveillance\, respect\, écoute et non jugement. Les nouveaux participant.e.s sont les bienvenu.e.s !\nNombre de places limité. Pour participer et réserver votre place\, cliquez sur le bouton ci-dessous (vérifiez avant de régler que vous avez sélectionné en quantité 1 séance) \n\n \n\n\n\nParticipation au groupe de parole\n\n\nCercle de parole en visio €30\,00 EUR\n\n\n\n\n\n \n\nSi vous préférez régler par virement bancaire\, merci de me contacter par mail pour vous donner mon RIB. \nLe lien pour accéder au groupe en visio sur Zoom vous sera envoyé après paiement. \n\nPour les personnes en difficulté financière (RSA\, situation de handicap\, faibles revenus) : tarif spécial de 20 €. Me contacter pour en savoir plus et avoir le lien de paiement.\nPour toute question\, écrivez-moi à : anya@anyatsai.com
URL:https://anyatsai.com/evenement/cercle-de-parole-4sept/
ATTACH;FMTTYPE=image/jpeg:https://anyatsai.com/wp-content/uploads/2020/07/groupe.jpg
END:VEVENT
END:VCALENDAR