BEGIN:VCALENDAR
VERSION:2.0
PRODID:-//Anya Tsai - ECPv6.15.17.1//NONSGML v1.0//EN
CALSCALE:GREGORIAN
METHOD:PUBLISH
X-ORIGINAL-URL:https://anyatsai.com
X-WR-CALDESC:Évènements pour Anya Tsai
REFRESH-INTERVAL;VALUE=DURATION:PT1H
X-Robots-Tag:noindex
X-PUBLISHED-TTL:PT1H
BEGIN:VTIMEZONE
TZID:Europe/Helsinki
BEGIN:DAYLIGHT
TZOFFSETFROM:+0200
TZOFFSETTO:+0300
TZNAME:EEST
DTSTART:20220327T010000
END:DAYLIGHT
BEGIN:STANDARD
TZOFFSETFROM:+0300
TZOFFSETTO:+0200
TZNAME:EET
DTSTART:20221030T010000
END:STANDARD
BEGIN:DAYLIGHT
TZOFFSETFROM:+0200
TZOFFSETTO:+0300
TZNAME:EEST
DTSTART:20230326T010000
END:DAYLIGHT
BEGIN:STANDARD
TZOFFSETFROM:+0300
TZOFFSETTO:+0200
TZNAME:EET
DTSTART:20231029T010000
END:STANDARD
BEGIN:DAYLIGHT
TZOFFSETFROM:+0200
TZOFFSETTO:+0300
TZNAME:EEST
DTSTART:20240331T010000
END:DAYLIGHT
BEGIN:STANDARD
TZOFFSETFROM:+0300
TZOFFSETTO:+0200
TZNAME:EET
DTSTART:20241027T010000
END:STANDARD
END:VTIMEZONE
BEGIN:VEVENT
DTSTART;VALUE=DATE:20230410
DTEND;VALUE=DATE:20230515
DTSTAMP:20260423T145358
CREATED:20230427T091620Z
LAST-MODIFIED:20230427T093641Z
UID:9677-1681084800-1684108799@anyatsai.com
SUMMARY:Programme Libération intérieure
DESCRIPTION:La résilience n’est jamais subie\, elle est toujours choisie. \nSe libérer est un choix : on ne devient libre que si on le souhaite. \nLa libération est un processus\, un choix et un engagement. \nElle toujours est choisie\, jamais subie. \nIdem pour la guérison. \nLa guérison est un choix : nul ne guérit si on ne le veut pas. \nLa guérison n’est jamais subie\, elle est toujours choisie. \nPrendre conscience que tout commence par un choix ouvre les portes de la transformation profonde. \nC’est ainsi que le voyage de métamorphose commence. \nTout commence par un choix :\n \n\nCelui de sortir enfin de la résignation et de la victimisation\nRetrouver sa souveraineté\nSe choisir soi\n\nCe que mon parcours de résiliente et d’alchimiste m’ont appris : la libération et la guérison se font sur plusieurs plans. \nIl n’est pas possible de se libérer complètement si on ne prend pas en compte le corps\, ou si l’on reste dissocié. \nCela est encore plus vrai si on a vécu un trauma qui touche notre intégrité (tel que des violences sexuelles). \nSans prendre en compte le corps\, il manque une clé fondamentale dans le parcours de guérison. \nCe qui explique que beaucoup se sentent encore bloqués dans leur passé malgré des années de thérapies\, d’accompagnements ou de formations diverses. \nCar la libération est encore incomplète. \n  \nAprès avoir libéré des énormes couches de mémoires cellulaires du trauma engrammées dans mon corps depuis près de 30 ans\, j’ai atteint un niveau de libération et de guérison qui m’étaient inaccessibles jusque là. Et cela a ouvert un espace de nouvelles possibilités dans ma vie. \nAujourd’hui je suis enfin prête à vous l’enseigner et vous guider sur votre voie de libération profonde\, depuis un espace sécure en soi\, pour aller libérer sur plusieurs plans\, notamment corporel\, pour que vous puissiez me rejoindre où je suis. \nAprès avoir posé les fondations de sécurité intérieure dans mon dernier programme\, je vous propose la suite du voyage\, encore plus alchimique\, sur mon thème de cœur : la libération profonde. \n  \nCar OUI : \n✨ Il existe une façon de se libérer de ses blessures et guérir ses traumas sans ressasser sans cesse le passé\, ni rester des années en thérapie. \n✨ Il existe une autre voie tellement plus douce et plus écologique pour soi\, où les luttes et les souffrances ne sont plus nécessaires. \n✨ Il existe une guérison dont nous sommes la source et à l’origine du processus\, en étant autonome et non dépendant d’un thérapeute ou d’une personne extérieure. \n✨ Il existe un chemin tellement plus court et bien plus fluide qu’on ne l’imagine\, peu importe l’ancienneté de l’épreuve. \n✨ Il existe un parcours de transformation intérieure pour redevenir créateur de sa vie\, au lieu de la subir. \n✨ Il existe un voyage alchimique pour vivre la plus belle des vies\, au lieu de subir les conséquences du passé. \n✨ Il existe une voie pour sortir de l’impuissance et faire de ses épreuves le tremplin de son évolution. \nCe chemin n’attend plus que vous\, si vous le choisissez. \n💫 J’ouvre une nouvelle voie de libération profonde et de guérison intérieure dans la prochaine immersion alchimique où je serai votre mentor dans ce voyage. \n\n6 sessions complètes en replay (durée de chaque session : 1h à 1h30 avec tous les outils et exercices pratiques)\nune session de questions/réponses en mai sur Zoom à la fin du programme\, avec replay\nun groupe privé Facebook avec ma présence quotidienne\nun groupe privé Telegram pour échanger entre les lives\, poser vos questions et garder le contact\n\nProgramme interactif\, guidé pas à pas\, accès à vie \nBonus : ma présence au quotidien dans un groupe privé Telegram en plus des sessions lives\, outils\, exercices pratiques\, replay. Il est important pour moi de guider un groupe et d’être présente pour vous. \n►  Oui je transforme ma vie et rejoins le programme\nUne libération sur plusieurs plans\, notamment : \n\nlibération émotionnelle pour ne plus subir ses émotions et retrouver un socle pérenne de stabilité émotionnelle. Fini les montagnes russes émotionnelles\, vous aurez les outils en toute autonomie pour réguler vos émotions\nse reconnecter à son corps\, sortir de la dissociation\, pour continuer le travail de libération\, notamment des mémoires corporelles\ncréation d’un espace intérieur de libération pour accueillir le changement\nlibération au niveau énergétique\net d’autres surprises 😉\nle tout depuis un espace sécure\n\n30 ans de mon parcours alchimique que je vous livre\, la quintessence de mes outils\, le meilleur de mes apprentissages et formations. \nJe sais désormais pour l’avoir vécu qu’il est possible de libérer et de guérir bien plus profondément à des nouveaux niveaux que l’on pensait inaccessibles\, des niveaux dont on n’avait même pas conscience. Le tout en douceur\, en respect de soi\, en sécurité. \nTout ce que j’apprends et j’alchimise\, je vous l’enseigne pour que vous aussi puissiez atteindre ce niveau et accélérer votre propre processus de libération et de guérison. \nIl est temps d’emmener avec moi les personnes qui se sentent appelées pour faire ensemble ce nouveau voyage profond de libération sur tous les plans\, tout cela à partir d’un espace de sécurité intérieure. \nTelle est la clé qui ouvre les portes de la transformation profonde et pérenne. \nTarif \nOffre lancement : 369 € (au lieu de 488€) \nPaiement en 2 fois possible \n► Je rejoins la nouvelle immersion Libération\nPackage avec le programme Sécurité intérieure\nTarif : 555€ (au lieu de 857€) pour le package avec le programme “Sécurité intérieure” pour poser ses fondations essentielles de sécurité\, socle de toute transformation. \nCe nouveau programme Libération sera encore plus profond et puissant si vous avez les fondations de sécurité intérieure. \n>> Découvrir le pack pour les 2 programmes
URL:https://anyatsai.com/evenement/programme-liberation-interieure/
ATTACH;FMTTYPE=image/jpeg:https://anyatsai.com/wp-content/uploads/2021/08/zac-durant-_6HzPU9Hyfg-unsplash.jpg
END:VEVENT
END:VCALENDAR