BEGIN:VCALENDAR
VERSION:2.0
PRODID:-//Anya Tsai - ECPv6.15.17.1//NONSGML v1.0//EN
CALSCALE:GREGORIAN
METHOD:PUBLISH
X-WR-CALNAME:Anya Tsai
X-ORIGINAL-URL:https://anyatsai.com
X-WR-CALDESC:Évènements pour Anya Tsai
REFRESH-INTERVAL;VALUE=DURATION:PT1H
X-Robots-Tag:noindex
X-PUBLISHED-TTL:PT1H
BEGIN:VTIMEZONE
TZID:Europe/Helsinki
BEGIN:DAYLIGHT
TZOFFSETFROM:+0200
TZOFFSETTO:+0300
TZNAME:EEST
DTSTART:20240331T010000
END:DAYLIGHT
BEGIN:STANDARD
TZOFFSETFROM:+0300
TZOFFSETTO:+0200
TZNAME:EET
DTSTART:20241027T010000
END:STANDARD
BEGIN:DAYLIGHT
TZOFFSETFROM:+0200
TZOFFSETTO:+0300
TZNAME:EEST
DTSTART:20250330T010000
END:DAYLIGHT
BEGIN:STANDARD
TZOFFSETFROM:+0300
TZOFFSETTO:+0200
TZNAME:EET
DTSTART:20251026T010000
END:STANDARD
BEGIN:DAYLIGHT
TZOFFSETFROM:+0200
TZOFFSETTO:+0300
TZNAME:EEST
DTSTART:20260329T010000
END:DAYLIGHT
BEGIN:STANDARD
TZOFFSETFROM:+0300
TZOFFSETTO:+0200
TZNAME:EET
DTSTART:20261025T010000
END:STANDARD
END:VTIMEZONE
BEGIN:VEVENT
DTSTART;TZID=Europe/Helsinki:20251212T190000
DTEND;TZID=Europe/Helsinki:20251212T210000
DTSTAMP:20260422T133950
CREATED:20250101T202925Z
LAST-MODIFIED:20251111T193939Z
UID:9991-1765566000-1765573200@anyatsai.com
SUMMARY:Cercle de Parole Décembre
DESCRIPTION:Groupe de parole mixte en visio sur Zoom – Vendredi 12 Décembre de 19h à 21h (heure française)\n\nLe cercle de parole est ouvert aux femmes et aux hommes résilient.e.s de violences sexuelles. Les nouveaux participants et participantes sont les bienvenus ! \nNouveauté en bonus : une synthèse du cercle de parole\, des sujets abordés\, ainsi que les prochains pas\, sera partagé aux participants à la fin du cercle pour que vous puissiez suivre vos avancées !  \nLe cadre du cercle de parole : sécurité\, confidentialité\, bienveillance\, respect\, écoute et non jugement.  \nNombre de places limité pour chaque cercle afin de garantir une qualité de cercle et de temps de parole équitable.  \nImportant : pas d’obligation de parler\, mais je propose à chacun un temps de parole.\nSécurité et confidentialité : Le cercle de parole n’est pas enregistré pour une question de confidentialité des partages.   \nPour participer et réserver votre place\nCliquez sur le bouton ci-dessous pour régler via Paypal : \n\n\n \n\n\n\nParticipation au groupe de parole\n\n\nCercle de parole en visio €30\,00 EUR\n\n\n\n\n\n \n\n\n\n>> Cliquez ici pour régler par Stripe (Carte bancaire) \n  \n\nLe lien pour accéder au groupe en visio sur Zoom vous sera envoyé après paiement. \n\n\nReport : Si vous avez réglé votre place mais que vous ne pouvez finalement pas participer\, merci de prévenir au minimum 48h à l’avance pour bénéficier d’un report sur un prochain cercle (dans la limite des places disponibles). La place n’est pas remboursable mais uniquement reportable au cercle suivant.\nPour toute question : anya@anyatsai.com \nTémoignages de participants : \n \n \n \n \n \n \n \n \n \n \n  \n \n  \n\nC
URL:https://anyatsai.com/evenement/cercle-parole-decembre/
CATEGORIES:Groupes en Visio
ATTACH;FMTTYPE=image/jpeg:https://anyatsai.com/wp-content/uploads/2020/07/groupe.jpg
END:VEVENT
END:VCALENDAR